BEGIN:VCALENDAR
VERSION:2.0
PRODID:-//Tech Unlimited - ECPv6.15.17.1//NONSGML v1.0//EN
CALSCALE:GREGORIAN
METHOD:PUBLISH
X-ORIGINAL-URL:https://techunlimited.org
X-WR-CALDESC:Events for Tech Unlimited
REFRESH-INTERVAL;VALUE=DURATION:PT1H
X-Robots-Tag:noindex
X-PUBLISHED-TTL:PT1H
BEGIN:VTIMEZONE
TZID:America/New_York
BEGIN:DAYLIGHT
TZOFFSETFROM:-0500
TZOFFSETTO:-0400
TZNAME:EDT
DTSTART:20230312T070000
END:DAYLIGHT
BEGIN:STANDARD
TZOFFSETFROM:-0400
TZOFFSETTO:-0500
TZNAME:EST
DTSTART:20231105T060000
END:STANDARD
BEGIN:DAYLIGHT
TZOFFSETFROM:-0500
TZOFFSETTO:-0400
TZNAME:EDT
DTSTART:20240310T070000
END:DAYLIGHT
BEGIN:STANDARD
TZOFFSETFROM:-0400
TZOFFSETTO:-0500
TZNAME:EST
DTSTART:20241103T060000
END:STANDARD
BEGIN:DAYLIGHT
TZOFFSETFROM:-0500
TZOFFSETTO:-0400
TZNAME:EDT
DTSTART:20250309T070000
END:DAYLIGHT
BEGIN:STANDARD
TZOFFSETFROM:-0400
TZOFFSETTO:-0500
TZNAME:EST
DTSTART:20251102T060000
END:STANDARD
END:VTIMEZONE
BEGIN:VEVENT
DTSTART;TZID=America/New_York:20240925T170000
DTEND;TZID=America/New_York:20240925T180000
DTSTAMP:20260421T150356
CREATED:20240821T170011Z
LAST-MODIFIED:20250820T164515Z
UID:10000096-1727283600-1727287200@techunlimited.org
SUMMARY:Digital Empowerment: Critical Thinking in the Digital Age
DESCRIPTION:In this workshop\, students will learn about how to spot misinformation\, tell if online info is trustworthy\, and make smart choices when browsing the web. We’ll discuss how to think critically about what we see online so we can confidently navigate the digital world.  \nThe Digital Empowerment Workshop is a free virtual after-school program where students discuss topics related to the digital world and work on their communication skills in a supportive environment.  \nTopics are decided by TKU students. Past discussions covered topics such as social media addiction\, NFTs\, and making friends online. For students ages 14 to 24.  \nThumbnail art was created by TKU student Patrick Lewis Jr. \nEnroll Now
URL:https://techunlimited.org/event/digital-empowerment-september/
LOCATION:370 Jay St\, Brooklyn\, 11201\, United States
CATEGORIES:Digital Empowerment
ATTACH;FMTTYPE=image/png:https://techunlimited.org/wp-content/uploads/2025/08/horizontal-virtual-program-.png
END:VEVENT
END:VCALENDAR