BEGIN:VCALENDAR
VERSION:2.0
PRODID:-//Tech Unlimited - ECPv6.15.17.1//NONSGML v1.0//EN
CALSCALE:GREGORIAN
METHOD:PUBLISH
X-WR-CALNAME:Tech Unlimited
X-ORIGINAL-URL:https://techunlimited.org
X-WR-CALDESC:Events for Tech Unlimited
REFRESH-INTERVAL;VALUE=DURATION:PT1H
X-Robots-Tag:noindex
X-PUBLISHED-TTL:PT1H
BEGIN:VTIMEZONE
TZID:America/New_York
BEGIN:DAYLIGHT
TZOFFSETFROM:-0500
TZOFFSETTO:-0400
TZNAME:EDT
DTSTART:20230312T070000
END:DAYLIGHT
BEGIN:STANDARD
TZOFFSETFROM:-0400
TZOFFSETTO:-0500
TZNAME:EST
DTSTART:20231105T060000
END:STANDARD
BEGIN:DAYLIGHT
TZOFFSETFROM:-0500
TZOFFSETTO:-0400
TZNAME:EDT
DTSTART:20240310T070000
END:DAYLIGHT
BEGIN:STANDARD
TZOFFSETFROM:-0400
TZOFFSETTO:-0500
TZNAME:EST
DTSTART:20241103T060000
END:STANDARD
BEGIN:DAYLIGHT
TZOFFSETFROM:-0500
TZOFFSETTO:-0400
TZNAME:EDT
DTSTART:20250309T070000
END:DAYLIGHT
BEGIN:STANDARD
TZOFFSETFROM:-0400
TZOFFSETTO:-0500
TZNAME:EST
DTSTART:20251102T060000
END:STANDARD
END:VTIMEZONE
BEGIN:VEVENT
DTSTART;TZID=America/New_York:20241023T170000
DTEND;TZID=America/New_York:20241023T180000
DTSTAMP:20260425T081010
CREATED:20240821T170021Z
LAST-MODIFIED:20250820T164520Z
UID:10000102-1729702800-1729706400@techunlimited.org
SUMMARY:Digital Empowerment: October
DESCRIPTION:The Digital Empowerment Workshop is a free virtual after-school program where students discuss topics related to the digital world and work on their communication skills in a supportive environment.  \n Topics are decided by TKU students. Past discussions covered topics such as social media addiction\, NFTs\, and making friends online. For students ages 14 to 24. \nThumbnail art was created by TKU student Patrick Lewis Jr.\nEnroll Now
URL:https://techunlimited.org/event/digital-empowerment-october/
LOCATION:370 Jay St\, Brooklyn\, 11201\, United States
CATEGORIES:Digital Empowerment
ATTACH;FMTTYPE=image/png:https://techunlimited.org/wp-content/uploads/2025/08/horizontal-virtual-program-.png
END:VEVENT
END:VCALENDAR