BEGIN:VCALENDAR
VERSION:2.0
PRODID:-//Tech Unlimited - ECPv6.15.17.1//NONSGML v1.0//EN
CALSCALE:GREGORIAN
METHOD:PUBLISH
X-ORIGINAL-URL:https://techunlimited.org
X-WR-CALDESC:Events for Tech Unlimited
REFRESH-INTERVAL;VALUE=DURATION:PT1H
X-Robots-Tag:noindex
X-PUBLISHED-TTL:PT1H
BEGIN:VTIMEZONE
TZID:America/New_York
BEGIN:DAYLIGHT
TZOFFSETFROM:-0500
TZOFFSETTO:-0400
TZNAME:EDT
DTSTART:20230312T070000
END:DAYLIGHT
BEGIN:STANDARD
TZOFFSETFROM:-0400
TZOFFSETTO:-0500
TZNAME:EST
DTSTART:20231105T060000
END:STANDARD
BEGIN:DAYLIGHT
TZOFFSETFROM:-0500
TZOFFSETTO:-0400
TZNAME:EDT
DTSTART:20240310T070000
END:DAYLIGHT
BEGIN:STANDARD
TZOFFSETFROM:-0400
TZOFFSETTO:-0500
TZNAME:EST
DTSTART:20241103T060000
END:STANDARD
BEGIN:DAYLIGHT
TZOFFSETFROM:-0500
TZOFFSETTO:-0400
TZNAME:EDT
DTSTART:20250309T070000
END:DAYLIGHT
BEGIN:STANDARD
TZOFFSETFROM:-0400
TZOFFSETTO:-0500
TZNAME:EST
DTSTART:20251102T060000
END:STANDARD
END:VTIMEZONE
BEGIN:VEVENT
DTSTART;TZID=America/New_York:20241025T160000
DTEND;TZID=America/New_York:20241025T183000
DTSTAMP:20260423T093629
CREATED:20240821T170022Z
LAST-MODIFIED:20250820T164522Z
UID:10000103-1729872000-1729881000@techunlimited.org
SUMMARY:Tech Social: Mystery Masquerade
DESCRIPTION:Connect with fellow techies\, create your own animation\, showcase your Scare-aoke skills\, and enjoy tasty treats. Join us for mask making\, photo booth fun\, a mystery-solving adventure\, and costume contests. \nTo participate in the program\, you must register in advance. For students ages 14 to 24. \nThumbnail art was created by TKU student Patrick Lewis Jr. \nEnroll Now
URL:https://techunlimited.org/event/tech-social-mystery-masquerade/
LOCATION:370 Jay St\, Brooklyn\, 11201\, United States
CATEGORIES:Tech Socials
ATTACH;FMTTYPE=image/png:https://techunlimited.org/wp-content/uploads/2025/08/OLDDrawing-7.png
END:VEVENT
END:VCALENDAR