BEGIN:VCALENDAR
VERSION:2.0
PRODID:-//Tech Unlimited - ECPv6.15.17.1//NONSGML v1.0//EN
CALSCALE:GREGORIAN
METHOD:PUBLISH
X-ORIGINAL-URL:https://techunlimited.org
X-WR-CALDESC:Events for Tech Unlimited
REFRESH-INTERVAL;VALUE=DURATION:PT1H
X-Robots-Tag:noindex
X-PUBLISHED-TTL:PT1H
BEGIN:VTIMEZONE
TZID:America/New_York
BEGIN:DAYLIGHT
TZOFFSETFROM:-0500
TZOFFSETTO:-0400
TZNAME:EDT
DTSTART:20230312T070000
END:DAYLIGHT
BEGIN:STANDARD
TZOFFSETFROM:-0400
TZOFFSETTO:-0500
TZNAME:EST
DTSTART:20231105T060000
END:STANDARD
BEGIN:DAYLIGHT
TZOFFSETFROM:-0500
TZOFFSETTO:-0400
TZNAME:EDT
DTSTART:20240310T070000
END:DAYLIGHT
BEGIN:STANDARD
TZOFFSETFROM:-0400
TZOFFSETTO:-0500
TZNAME:EST
DTSTART:20241103T060000
END:STANDARD
BEGIN:DAYLIGHT
TZOFFSETFROM:-0500
TZOFFSETTO:-0400
TZNAME:EDT
DTSTART:20250309T070000
END:DAYLIGHT
BEGIN:STANDARD
TZOFFSETFROM:-0400
TZOFFSETTO:-0500
TZNAME:EST
DTSTART:20251102T060000
END:STANDARD
END:VTIMEZONE
BEGIN:VEVENT
DTSTART;TZID=America/New_York:20241122T160000
DTEND;TZID=America/New_York:20241122T183000
DTSTAMP:20260421T093600
CREATED:20241101T190454Z
LAST-MODIFIED:20250820T164527Z
UID:10000109-1732291200-1732300200@techunlimited.org
SUMMARY:Tech Social: Friendsgiving
DESCRIPTION:Join us for a Friendsgiving Tech Social\, where we celebrate friendship and community with a fun-filled gathering! Create crafts and digital art while connecting with fellow techies. \nTo participate\, please register in advance. This event is open to students ages 14 to 24. \nThumbnail art for the event was created by TKU student Patrick Lewis Jr.
URL:https://techunlimited.org/event/tech-social-friendsgiving/
LOCATION:370 Jay St\, Brooklyn\, 11201\, United States
ATTACH;FMTTYPE=image/png:https://techunlimited.org/wp-content/uploads/2025/08/OLDDrawing-7.png
END:VEVENT
END:VCALENDAR