BEGIN:VCALENDAR
VERSION:2.0
PRODID:-//Tech Unlimited - ECPv6.15.17.1//NONSGML v1.0//EN
CALSCALE:GREGORIAN
METHOD:PUBLISH
X-WR-CALNAME:Tech Unlimited
X-ORIGINAL-URL:https://techunlimited.org
X-WR-CALDESC:Events for Tech Unlimited
REFRESH-INTERVAL;VALUE=DURATION:PT1H
X-Robots-Tag:noindex
X-PUBLISHED-TTL:PT1H
BEGIN:VTIMEZONE
TZID:America/New_York
BEGIN:DAYLIGHT
TZOFFSETFROM:-0500
TZOFFSETTO:-0400
TZNAME:EDT
DTSTART:20240310T070000
END:DAYLIGHT
BEGIN:STANDARD
TZOFFSETFROM:-0400
TZOFFSETTO:-0500
TZNAME:EST
DTSTART:20241103T060000
END:STANDARD
BEGIN:DAYLIGHT
TZOFFSETFROM:-0500
TZOFFSETTO:-0400
TZNAME:EDT
DTSTART:20250309T070000
END:DAYLIGHT
BEGIN:STANDARD
TZOFFSETFROM:-0400
TZOFFSETTO:-0500
TZNAME:EST
DTSTART:20251102T060000
END:STANDARD
BEGIN:DAYLIGHT
TZOFFSETFROM:-0500
TZOFFSETTO:-0400
TZNAME:EDT
DTSTART:20260308T070000
END:DAYLIGHT
BEGIN:STANDARD
TZOFFSETFROM:-0400
TZOFFSETTO:-0500
TZNAME:EST
DTSTART:20261101T060000
END:STANDARD
END:VTIMEZONE
BEGIN:VEVENT
DTSTART;TZID=America/New_York:20250121T180000
DTEND;TZID=America/New_York:20250121T190000
DTSTAMP:20260419T204859
CREATED:20250116T215027Z
LAST-MODIFIED:20250820T164536Z
UID:10000121-1737482400-1737486000@techunlimited.org
SUMMARY:Parent Talk | Building STEM Careers: Autistic Students & Diversity
DESCRIPTION:The first Parent Talk of the year will feature Dr. James P. Lawler\, a Professor of Disability Studies and Information Technology at Pace University. He completed a comprehensive paper on Enabling Autistic College Students to Evaluate Best-of-Class Employment Practices in Science\, Technology\, Engineering and Mathematics (STEM) as his recent sabbatical study.  \nDr. Lawler will present a best-of-class employment model for autistic students based on how technology companies are believed to operate. He will explain how the model supports autistic students with job preparation\, workplace settings\, career growth\, health and personal services\, and community outreach in top technology companies.  \nThis presentation includes a helpful guide for parents and students to assess how autistic students can succeed in more supportive STEM careers. The presentation will conclude with a 10-minute Q&A session. \nRegister
URL:https://techunlimited.org/event/parent-talks-building-stem-careers-autistic-students-diversity/
CATEGORIES:Parent Talks,Tech Knowledge Workshops
ATTACH;FMTTYPE=image/png:https://techunlimited.org/wp-content/uploads/2025/08/parentTalk.png
LOCATION:https://techunlimited.org/event/parent-talks-building-stem-careers-autistic-students-diversity/
END:VEVENT
END:VCALENDAR