BEGIN:VCALENDAR
VERSION:2.0
PRODID:-//Tech Unlimited - ECPv6.15.17.1//NONSGML v1.0//EN
CALSCALE:GREGORIAN
METHOD:PUBLISH
X-WR-CALNAME:Tech Unlimited
X-ORIGINAL-URL:https://techunlimited.org
X-WR-CALDESC:Events for Tech Unlimited
REFRESH-INTERVAL;VALUE=DURATION:PT1H
X-Robots-Tag:noindex
X-PUBLISHED-TTL:PT1H
BEGIN:VTIMEZONE
TZID:America/New_York
BEGIN:DAYLIGHT
TZOFFSETFROM:-0500
TZOFFSETTO:-0400
TZNAME:EDT
DTSTART:20240310T070000
END:DAYLIGHT
BEGIN:STANDARD
TZOFFSETFROM:-0400
TZOFFSETTO:-0500
TZNAME:EST
DTSTART:20241103T060000
END:STANDARD
BEGIN:DAYLIGHT
TZOFFSETFROM:-0500
TZOFFSETTO:-0400
TZNAME:EDT
DTSTART:20250309T070000
END:DAYLIGHT
BEGIN:STANDARD
TZOFFSETFROM:-0400
TZOFFSETTO:-0500
TZNAME:EST
DTSTART:20251102T060000
END:STANDARD
BEGIN:DAYLIGHT
TZOFFSETFROM:-0500
TZOFFSETTO:-0400
TZNAME:EDT
DTSTART:20260308T070000
END:DAYLIGHT
BEGIN:STANDARD
TZOFFSETFROM:-0400
TZOFFSETTO:-0500
TZNAME:EST
DTSTART:20261101T060000
END:STANDARD
END:VTIMEZONE
BEGIN:VEVENT
DTSTART;TZID=America/New_York:20250721T100000
DTEND;TZID=America/New_York:20250725T160000
DTSTAMP:20260419T170720
CREATED:20250304T012736Z
LAST-MODIFIED:20250820T164553Z
UID:10000142-1753092000-1753459200@techunlimited.org
SUMMARY:Filmmaking: Video Editing & Special Effects | Summer In-Person Workshop
DESCRIPTION:Description: In this weeklong workshop\, students will explore the fundamentals of filmmaking with a focus on video editing in the morning and green screen effects and special effects in the afternoon. They will learn how to cut and enhance footage\, then experiment with visual effects to create dynamic and engaging videos. \n\nDates:   July 21-25 \nChoose Between: \nFull Day: 10:00-4:00 PM ET \nMorning: 10:00-12:30 PM ET \nAfternoon: 1:30-4:00 PM ET \nTo ensure flexibility\, students can enroll in full or half-day options. \nPrice: \n$169 per half-day week  \n$209 per full-day week \n\nIn-Person Workshop Information & Policies  \n\nRegistration Policy: All registrations for our weeklong workshops are non-refundable to ensure proper staffing and planning for each session.\nEarly Drop-Off & Late Pick-Up: Supervised care is available before and after workshops at a rate of $15 per hour\, per student. We offer Early Drop-Off from 9:00–10:00 AM and Late Pick-Up from 4:00–5:00 PM. For inquiries\, contact info@techkidsunlimited.org.\nLunch Break: Full-day participants have lunch from 12:30–1:30 PM. Students should bring their own lunch and may choose to eat inside 370 Jay St. or go out independently.\nAge Groups: Summer weeklong workshops are for students ages 10–24. Participants will be grouped by age: 10–15 and 16–24.\nCommunity Agreements: Before the workshop begins\, students and families must read and sign the Community Contracts & Student Handbook to ensure all participants understand workshop expectations.\nTechnology: TKU will provide laptops and other necessary technology to participate. \nEmail Access: We recommend students have access to their own email address to log into workshop tools independently and continue using them after the workshop ends.\nFriday Student Showcase: Parents & caregivers are invited to the Friday Student Showcase at 3:15 PM each week to see what students have created.\n\nEnroll Now
URL:https://techunlimited.org/event/filmmaking-video-editing-special-effects-summer-in-person-workshop/
LOCATION:370 Jay St\, Brooklyn\, 11201\, United States
CATEGORIES:Summer Weeklong Workshops,Tech Knowledge Workshops
ATTACH;FMTTYPE=image/png:https://techunlimited.org/wp-content/uploads/2025/08/inPersonSummer.png
END:VEVENT
BEGIN:VEVENT
DTSTART;TZID=America/New_York:20250721T160000
DTEND;TZID=America/New_York:20250725T180000
DTSTAMP:20260419T170720
CREATED:20250304T013435Z
LAST-MODIFIED:20250820T164558Z
UID:10000147-1753113600-1753466400@techunlimited.org
SUMMARY:Filmmaking: Video Editing & Special Effects | Summer Virtual Workshop
DESCRIPTION:Learn the fundamentals of filmmaking with a focus on video editing and special effects. Students will cut and enhance footage\, add visual effects\, and create dynamic videos.\n \n\nDates:    July 21-25 \nTime:  4:00 – 6:00 PM ET \nPrice: $109 \n\nVirtual Workshop Information & Policies  \n\nRegistration Policy: All registrations for our weeklong workshops are non-refundable to ensure proper staffing and planning for each session.\nCommunity Agreements: Before the workshop begins\, students and families must read and sign the Community Contracts & Student Handbook to ensure all participants understand workshop expectations.\nDevice Recommendation: We recommend students use a laptop to participate in virtual workshops. Tablets may work but could have limitations.\nEmail Access: We recommend students have access to their own email address to log into workshop tools independently and continue using them after the workshop ends.\n\n  \nEnroll Now
URL:https://techunlimited.org/event/filmmaking-video-editing-special-effects-summer-virtual-workshop/
LOCATION:370 Jay St\, Brooklyn\, 11201\, United States
CATEGORIES:Summer Weeklong Workshops,Tech Knowledge Workshops
ATTACH;FMTTYPE=image/png:https://techunlimited.org/wp-content/uploads/2025/08/virtualSummer.png
END:VEVENT
END:VCALENDAR