BEGIN:VCALENDAR
VERSION:2.0
PRODID:-//Tech Unlimited - ECPv6.15.17.1//NONSGML v1.0//EN
CALSCALE:GREGORIAN
METHOD:PUBLISH
X-ORIGINAL-URL:https://techunlimited.org
X-WR-CALDESC:Events for Tech Unlimited
REFRESH-INTERVAL;VALUE=DURATION:PT1H
X-Robots-Tag:noindex
X-PUBLISHED-TTL:PT1H
BEGIN:VTIMEZONE
TZID:America/New_York
BEGIN:DAYLIGHT
TZOFFSETFROM:-0500
TZOFFSETTO:-0400
TZNAME:EDT
DTSTART:20240310T070000
END:DAYLIGHT
BEGIN:STANDARD
TZOFFSETFROM:-0400
TZOFFSETTO:-0500
TZNAME:EST
DTSTART:20241103T060000
END:STANDARD
BEGIN:DAYLIGHT
TZOFFSETFROM:-0500
TZOFFSETTO:-0400
TZNAME:EDT
DTSTART:20250309T070000
END:DAYLIGHT
BEGIN:STANDARD
TZOFFSETFROM:-0400
TZOFFSETTO:-0500
TZNAME:EST
DTSTART:20251102T060000
END:STANDARD
BEGIN:DAYLIGHT
TZOFFSETFROM:-0500
TZOFFSETTO:-0400
TZNAME:EDT
DTSTART:20260308T070000
END:DAYLIGHT
BEGIN:STANDARD
TZOFFSETFROM:-0400
TZOFFSETTO:-0500
TZNAME:EST
DTSTART:20261101T060000
END:STANDARD
END:VTIMEZONE
BEGIN:VEVENT
DTSTART;TZID=America/New_York:20251112T170000
DTEND;TZID=America/New_York:20251112T180000
DTSTAMP:20260425T144233
CREATED:20250730T175433Z
LAST-MODIFIED:20251111T220557Z
UID:10000159-1762966800-1762970400@techunlimited.org
SUMMARY:Digital Empowerment: Avoiding Scams
DESCRIPTION:The Digital Empowerment Workshop is a free drop-in program where students discuss topics related to the digital world and work on their communication skills in a supportive environment. Different viewpoints are encouraged during discussions. Students also play games and do activities to reinforce their knowledge. Topics are decided by students. Topics in 2024 included Critical Thinking in the Digital Age\, The Benefits of Video Games\, Chat & Protect Yourself Online\, AI Usage in Videos\, Internet Drama\, Plagiarism & Copyright\, The History of the Internet\, and Search Engine Techniques. For ages 14-24 \nEnroll Now
URL:https://techunlimited.org/event/digital-empowerment-november-2/
LOCATION:370 Jay St\, Brooklyn\, 11201\, United States
CATEGORIES:After School Workshops,Digital Empowerment,ONLINE,Tech Knowledge Workshops
ATTACH;FMTTYPE=image/png:https://techunlimited.org/wp-content/uploads/2025/07/event-image_digital-empowerment.png
END:VEVENT
END:VCALENDAR