BEGIN:VCALENDAR
VERSION:2.0
PRODID:-//Tech Unlimited - ECPv6.15.17.1//NONSGML v1.0//EN
CALSCALE:GREGORIAN
METHOD:PUBLISH
X-ORIGINAL-URL:https://techunlimited.org
X-WR-CALDESC:Events for Tech Unlimited
REFRESH-INTERVAL;VALUE=DURATION:PT1H
X-Robots-Tag:noindex
X-PUBLISHED-TTL:PT1H
BEGIN:VTIMEZONE
TZID:America/New_York
BEGIN:DAYLIGHT
TZOFFSETFROM:-0500
TZOFFSETTO:-0400
TZNAME:EDT
DTSTART:20250309T070000
END:DAYLIGHT
BEGIN:STANDARD
TZOFFSETFROM:-0400
TZOFFSETTO:-0500
TZNAME:EST
DTSTART:20251102T060000
END:STANDARD
BEGIN:DAYLIGHT
TZOFFSETFROM:-0500
TZOFFSETTO:-0400
TZNAME:EDT
DTSTART:20260308T070000
END:DAYLIGHT
BEGIN:STANDARD
TZOFFSETFROM:-0400
TZOFFSETTO:-0500
TZNAME:EST
DTSTART:20261101T060000
END:STANDARD
BEGIN:DAYLIGHT
TZOFFSETFROM:-0500
TZOFFSETTO:-0400
TZNAME:EDT
DTSTART:20270314T070000
END:DAYLIGHT
BEGIN:STANDARD
TZOFFSETFROM:-0400
TZOFFSETTO:-0500
TZNAME:EST
DTSTART:20271107T060000
END:STANDARD
END:VTIMEZONE
BEGIN:VEVENT
DTSTART;TZID=America/New_York:20260427T170000
DTEND;TZID=America/New_York:20260527T183000
DTSTAMP:20260423T104356
CREATED:20251219T180512Z
LAST-MODIFIED:20260415T202653Z
UID:10000215-1777309200-1779906600@techunlimited.org
SUMMARY:Level Up Tech: AI & Digital Tools for the Office
DESCRIPTION:Level Up Tech: AI & Digital Tools for Office Spring 2026 helps neurodivergent teens and young adults feel confident using AI and digital tools they’ll actually need at work. Students learn through collaborative projects while building skills with tools like Google Workspace (Gmail\, Sheets\, Slides\, Drive\, Calendar\, Forms\, Google Meet)\, Zoom\, ChatGPT (prompting)\, Slack\, Notion\, and Asana. By the end of the program\, participants are better prepared to step into internships or entry-level roles feeling capable\, organized\, and ready to work.\n \nFor ages 16-24. \nWorkshop Schedule: \n\n10 Sessions\n4/27\, 4/29\, 5/4\, 5/6\, 5/11\, 5/13\, 5/18\, 5/20\, 5/25\, 5/27\n5:00-6:30 PM ET\nVirtual\n\nApply Now
URL:https://techunlimited.org/event/level-up-tech-digital-tools/
CATEGORIES:Career Ladder Programs,ONLINE
ATTACH;FMTTYPE=image/png:https://techunlimited.org/wp-content/uploads/2025/08/LUT.png
END:VEVENT
BEGIN:VEVENT
DTSTART;TZID=America/New_York:20260511T181500
DTEND;TZID=America/New_York:20260511T203000
DTSTAMP:20260423T104356
CREATED:20260401T171923Z
LAST-MODIFIED:20260410T150526Z
UID:10000232-1778523300-1778531400@techunlimited.org
SUMMARY:Tech Unlimited Fundraiser
DESCRIPTION:Celebrate and support Tech Unlimited at our annual fundraiser. ✨ \nEnjoy drinks and light bites\, enter exciting raffles\, bid on unique auction experiences\, and hear directly from neurodiverse students whose lives are being shaped through our programs. \nJoin us as we honor Lesley Palmer from Mizuho USA Foundation with Tech Unlimited’s Building Futures Award and recognize John Catuogno from Con Edison as the Workforce Inclusion Advocate for their outstanding support of neurodiverse talent. \nHosted on the 65th floor at Accenture’s One Manhattan West office\, the evening will feature stunning views of the Manhattan skyline. \nPlease note: This is a 21+ event. Students under 21 must be accompanied by a parent or guardian. \nBuy Tickets \n  \n  \n\nEvent Details \nSecurity: All guests must be registered in advance for building access. Please bring a valid photo ID for the security checkpoint. \nArrival: Doors open at 6:15 PM. \nAccessibility: If you need accommodations\, please notify us in advance at info@techunlimited.org. The venue is accessible via elevator. \n  \n 
URL:https://techunlimited.org/event/tech-unlimited-fundraiser/
ATTACH;FMTTYPE=image/png:https://techunlimited.org/wp-content/uploads/2026/04/Invite_v2.png
END:VEVENT
END:VCALENDAR