BEGIN:VCALENDAR
VERSION:2.0
PRODID:-//Tech Unlimited - ECPv6.15.17.1//NONSGML v1.0//EN
CALSCALE:GREGORIAN
METHOD:PUBLISH
X-ORIGINAL-URL:https://techunlimited.org
X-WR-CALDESC:Events for Tech Unlimited
REFRESH-INTERVAL;VALUE=DURATION:PT1H
X-Robots-Tag:noindex
X-PUBLISHED-TTL:PT1H
BEGIN:VTIMEZONE
TZID:America/New_York
BEGIN:DAYLIGHT
TZOFFSETFROM:-0500
TZOFFSETTO:-0400
TZNAME:EDT
DTSTART:20240310T070000
END:DAYLIGHT
BEGIN:STANDARD
TZOFFSETFROM:-0400
TZOFFSETTO:-0500
TZNAME:EST
DTSTART:20241103T060000
END:STANDARD
BEGIN:DAYLIGHT
TZOFFSETFROM:-0500
TZOFFSETTO:-0400
TZNAME:EDT
DTSTART:20250309T070000
END:DAYLIGHT
BEGIN:STANDARD
TZOFFSETFROM:-0400
TZOFFSETTO:-0500
TZNAME:EST
DTSTART:20251102T060000
END:STANDARD
BEGIN:DAYLIGHT
TZOFFSETFROM:-0500
TZOFFSETTO:-0400
TZNAME:EDT
DTSTART:20260308T070000
END:DAYLIGHT
BEGIN:STANDARD
TZOFFSETFROM:-0400
TZOFFSETTO:-0500
TZNAME:EST
DTSTART:20261101T060000
END:STANDARD
END:VTIMEZONE
BEGIN:VEVENT
DTSTART;TZID=America/New_York:20251214T153000
DTEND;TZID=America/New_York:20251214T173000
DTSTAMP:20260423T225856
CREATED:20250730T175435Z
LAST-MODIFIED:20251010T142058Z
UID:10000161-1765726200-1765733400@techunlimited.org
SUMMARY:Emerging Tech Family Day
DESCRIPTION:Emerging Tech Family Days are fun and inclusive events created for neurodiverse students and their families. Led by tech teaching artists\, assistant teachers\, and social workers\, the day includes hands-on activities such as coding\, animation\, and digital design. There will also be AI learning stations\, guest speakers\, and opportunities for family collaboration. For ages 10 to 24. \nEnroll Now
URL:https://techunlimited.org/event/emerging-tech-family-day-2/
LOCATION:370 Jay St\, Brooklyn\, 11201\, United States
CATEGORIES:Family Sunday,Tech Knowledge Workshops
ATTACH;FMTTYPE=image/png:https://techunlimited.org/wp-content/uploads/2025/07/event-image_family-sundays.png
END:VEVENT
END:VCALENDAR