BEGIN:VCALENDAR
VERSION:2.0
PRODID:-//Tech Unlimited - ECPv6.15.17.1//NONSGML v1.0//EN
CALSCALE:GREGORIAN
METHOD:PUBLISH
X-ORIGINAL-URL:https://techunlimited.org
X-WR-CALDESC:Events for Tech Unlimited
REFRESH-INTERVAL;VALUE=DURATION:PT1H
X-Robots-Tag:noindex
X-PUBLISHED-TTL:PT1H
BEGIN:VTIMEZONE
TZID:America/New_York
BEGIN:DAYLIGHT
TZOFFSETFROM:-0500
TZOFFSETTO:-0400
TZNAME:EDT
DTSTART:20230312T070000
END:DAYLIGHT
BEGIN:STANDARD
TZOFFSETFROM:-0400
TZOFFSETTO:-0500
TZNAME:EST
DTSTART:20231105T060000
END:STANDARD
BEGIN:DAYLIGHT
TZOFFSETFROM:-0500
TZOFFSETTO:-0400
TZNAME:EDT
DTSTART:20240310T070000
END:DAYLIGHT
BEGIN:STANDARD
TZOFFSETFROM:-0400
TZOFFSETTO:-0500
TZNAME:EST
DTSTART:20241103T060000
END:STANDARD
BEGIN:DAYLIGHT
TZOFFSETFROM:-0500
TZOFFSETTO:-0400
TZNAME:EDT
DTSTART:20250309T070000
END:DAYLIGHT
BEGIN:STANDARD
TZOFFSETFROM:-0400
TZOFFSETTO:-0500
TZNAME:EST
DTSTART:20251102T060000
END:STANDARD
BEGIN:DAYLIGHT
TZOFFSETFROM:-0500
TZOFFSETTO:-0400
TZNAME:EDT
DTSTART:20260308T070000
END:DAYLIGHT
BEGIN:STANDARD
TZOFFSETFROM:-0400
TZOFFSETTO:-0500
TZNAME:EST
DTSTART:20261101T060000
END:STANDARD
BEGIN:DAYLIGHT
TZOFFSETFROM:-0500
TZOFFSETTO:-0400
TZNAME:EDT
DTSTART:20270314T070000
END:DAYLIGHT
BEGIN:STANDARD
TZOFFSETFROM:-0400
TZOFFSETTO:-0500
TZNAME:EST
DTSTART:20271107T060000
END:STANDARD
END:VTIMEZONE
BEGIN:VEVENT
DTSTART;TZID=America/New_York:20260301T153000
DTEND;TZID=America/New_York:20260301T173000
DTSTAMP:20260423T123650
CREATED:20251219T162605Z
LAST-MODIFIED:20251219T162605Z
UID:10000213-1772379000-1772386200@techunlimited.org
SUMMARY:Family Sunday Workshop - Summer Preview
DESCRIPTION:Join us for a Family Sunday Workshop where families can preview our summer programs\, collaborate on creative projects together\, play games\, and connect with other families. Registration is $15 per family. \nEnroll Now
URL:https://techunlimited.org/event/family-sunday-workshop-summer-preview/
LOCATION:370 Jay St\, Brooklyn\, 11201\, United States
CATEGORIES:Family Sunday,Tech Knowledge Workshops
ATTACH;FMTTYPE=image/png:https://techunlimited.org/wp-content/uploads/2025/07/event-image_family-sundays.png
END:VEVENT
BEGIN:VEVENT
DTSTART;TZID=America/New_York:20251214T153000
DTEND;TZID=America/New_York:20251214T173000
DTSTAMP:20260423T123650
CREATED:20250730T175435Z
LAST-MODIFIED:20251010T142058Z
UID:10000161-1765726200-1765733400@techunlimited.org
SUMMARY:Emerging Tech Family Day
DESCRIPTION:Emerging Tech Family Days are fun and inclusive events created for neurodiverse students and their families. Led by tech teaching artists\, assistant teachers\, and social workers\, the day includes hands-on activities such as coding\, animation\, and digital design. There will also be AI learning stations\, guest speakers\, and opportunities for family collaboration. For ages 10 to 24. \nEnroll Now
URL:https://techunlimited.org/event/emerging-tech-family-day-2/
LOCATION:370 Jay St\, Brooklyn\, 11201\, United States
CATEGORIES:Family Sunday,Tech Knowledge Workshops
ATTACH;FMTTYPE=image/png:https://techunlimited.org/wp-content/uploads/2025/07/event-image_family-sundays.png
END:VEVENT
BEGIN:VEVENT
DTSTART;TZID=America/New_York:20250928T153000
DTEND;TZID=America/New_York:20250928T173000
DTSTAMP:20260423T123650
CREATED:20250730T175432Z
LAST-MODIFIED:20250917T205809Z
UID:10000156-1759073400-1759080600@techunlimited.org
SUMMARY:Family Day: Emerging Tech
DESCRIPTION:The September Family Day will spotlight the world of emerging technology. Participants are invited to explore learning stations focused on AI\, coding and digital literacy with a special guest speaker from Infosys. \nFamily Days are fun and inclusive events designed for neurodiverse youth and their families. Led by tech teaching artists\, assistant teachers\, and social workers\, each event features interactive stations and hands-on activities that spark creativity and connection. \n  \nEnroll Now
URL:https://techunlimited.org/event/emerging-tech-family-day/
LOCATION:370 Jay St\, Brooklyn\, 11201\, United States
CATEGORIES:Family Sunday,Tech Knowledge Workshops
ATTACH;FMTTYPE=image/png:https://techunlimited.org/wp-content/uploads/2025/07/event-image_family-sundays.png
END:VEVENT
BEGIN:VEVENT
DTSTART;TZID=America/New_York:20250601T153000
DTEND;TZID=America/New_York:20250601T173000
DTSTAMP:20260423T123650
CREATED:20250228T095343Z
LAST-MODIFIED:20250820T164548Z
UID:10000135-1748791800-1748799000@techunlimited.org
SUMMARY:Family Sunday: Summer Preview
DESCRIPTION:Family Sundays are open-house tech events where participants can explore a variety of digital technologies through hands-on stations. In this Summer Preview workshop\, families can sample activities from our upcoming summer programs\, including digital animation\, coding\, photo and video editing\, and more! For ages 10-24. \nEnroll Now
URL:https://techunlimited.org/event/family-sunday-summer-preview/
LOCATION:370 Jay St\, Brooklyn\, 11201\, United States
CATEGORIES:Family Sunday,Sunday Workshops,Tech Knowledge Workshops
ATTACH;FMTTYPE=image/png:https://techunlimited.org/wp-content/uploads/2025/08/familySunday.png
END:VEVENT
BEGIN:VEVENT
DTSTART;TZID=America/New_York:20250302T153000
DTEND;TZID=America/New_York:20250302T173000
DTSTAMP:20260423T123650
CREATED:20250108T194009Z
LAST-MODIFIED:20250820T164532Z
UID:10000115-1740929400-1740936600@techunlimited.org
SUMMARY:Family Sunday: Wearable Tech & Interactive Gadgets
DESCRIPTION:Family Sundays are tech events where participants can explore a variety of digital technologies through hands-on stations. In this wearable tech and physical computing workshop\, families can team up to design glowing accessories\, build interactive gadgets\, and discover the exciting possibilities of tech you can wear. \nFamilies are invited to join students in creating and exploring together\, making it a collaborative and engaging experience for all. \nFor ages 10-24. \nEnroll Now
URL:https://techunlimited.org/event/family-sunday-wearable-tech-interactive-gadgets/
LOCATION:370 Jay St\, Brooklyn\, 11201\, United States
CATEGORIES:Family Sunday,Sunday Workshops,Tech Knowledge Workshops
ATTACH;FMTTYPE=image/png:https://techunlimited.org/wp-content/uploads/2025/08/familySunday.png
END:VEVENT
BEGIN:VEVENT
DTSTART;TZID=America/New_York:20241208T153000
DTEND;TZID=America/New_York:20241208T173000
DTSTAMP:20260423T123650
CREATED:20240821T170026Z
LAST-MODIFIED:20250820T164524Z
UID:10000106-1733671800-1733679000@techunlimited.org
SUMMARY:Family Sunday: Coding & Game Lab
DESCRIPTION:Design your own interactive games\, experiment with code\, and enjoy hands-on activities at our Family Sunday: Coding & Game Lab. \n Family Sundays are free\, open house tech events where participants can explore a variety of digital technologies at different tech stations. Families are invited to join students in creating and exploring together\, making it a collaborative and engaging experience for all. \nThumbnail art was created by TKU student Patrick Lewis Jr. \nEnroll Now
URL:https://techunlimited.org/event/family-sunday-coding-game-lab/
LOCATION:370 Jay St\, Brooklyn\, 11201\, United States
CATEGORIES:Family Sunday,Sunday Workshops,Tech Knowledge Workshops
ATTACH;FMTTYPE=image/png:https://techunlimited.org/wp-content/uploads/2025/08/OLDDrawing-2.png
END:VEVENT
END:VCALENDAR