BEGIN:VCALENDAR
VERSION:2.0
PRODID:-//Tech Unlimited - ECPv6.15.17.1//NONSGML v1.0//EN
CALSCALE:GREGORIAN
METHOD:PUBLISH
X-ORIGINAL-URL:https://techunlimited.org
X-WR-CALDESC:Events for Tech Unlimited
REFRESH-INTERVAL;VALUE=DURATION:PT1H
X-Robots-Tag:noindex
X-PUBLISHED-TTL:PT1H
BEGIN:VTIMEZONE
TZID:America/New_York
BEGIN:DAYLIGHT
TZOFFSETFROM:-0500
TZOFFSETTO:-0400
TZNAME:EDT
DTSTART:20240310T070000
END:DAYLIGHT
BEGIN:STANDARD
TZOFFSETFROM:-0400
TZOFFSETTO:-0500
TZNAME:EST
DTSTART:20241103T060000
END:STANDARD
BEGIN:DAYLIGHT
TZOFFSETFROM:-0500
TZOFFSETTO:-0400
TZNAME:EDT
DTSTART:20250309T070000
END:DAYLIGHT
BEGIN:STANDARD
TZOFFSETFROM:-0400
TZOFFSETTO:-0500
TZNAME:EST
DTSTART:20251102T060000
END:STANDARD
BEGIN:DAYLIGHT
TZOFFSETFROM:-0500
TZOFFSETTO:-0400
TZNAME:EDT
DTSTART:20260308T070000
END:DAYLIGHT
BEGIN:STANDARD
TZOFFSETFROM:-0400
TZOFFSETTO:-0500
TZNAME:EST
DTSTART:20261101T060000
END:STANDARD
END:VTIMEZONE
BEGIN:VEVENT
DTSTART;TZID=America/New_York:20250202T153000
DTEND;TZID=America/New_York:20250202T173000
DTSTAMP:20260421T065454
CREATED:20250108T190938Z
LAST-MODIFIED:20250820T164531Z
UID:10000113-1738510200-1738517400@techunlimited.org
SUMMARY:In-Person Sunday Workshop: Learn Dungeons & Dragons
DESCRIPTION:Embark on an epic adventure in this hands-on Dungeons & Dragons workshop\, where you’ll learn to create characters\, build immersive worlds\, and craft captivating tales. Whether you’re a seasoned adventurer or a curious beginner\, this session will guide you through the fundamentals of gameplay\, roleplaying\, and creative collaboration. \nFor ages 10-24. \nEnroll Now
URL:https://techunlimited.org/event/in-person-sunday-workshop-dungeons-dragons/
LOCATION:370 Jay St\, Brooklyn\, 11201\, United States
CATEGORIES:Sunday Workshops,Tech Knowledge Workshops
ATTACH;FMTTYPE=image/png:https://techunlimited.org/wp-content/uploads/2025/08/inPersonSunday.png
END:VEVENT
BEGIN:VEVENT
DTSTART;TZID=America/New_York:20250211T180000
DTEND;TZID=America/New_York:20250211T190000
DTSTAMP:20260421T065454
CREATED:20250116T215813Z
LAST-MODIFIED:20250820T164537Z
UID:10000122-1739296800-1739300400@techunlimited.org
SUMMARY:Parent Talk | What’s Sex Ed Got to Do with It?
DESCRIPTION:Why is sex ed important and what do we mean by sex ed? We’re going to get into it! Liz Slagus of the Sex Ed Bakeshop will present evidence-based rationales for when and why sex ed is essential for everyone.  \nShe will talk about what your kiddos might want and need when it comes to their sexual health\, how to support them\, and provide you with resources to help. Slagus will also talk about the consent-focused work she’s doing with TKU during Spring 2025.  \nBring questions. Bring an open mind. Bring your hopes and dreams for sex ed. Most of us didn’t get what we deserved. Let’s talk about how we can do better. \nLiz Slagus is a Brooklyn-based artist\, curator\, educator\, and writer who is committed to sexual health not being a game of chance. She is pursuing a MEd in Human Sexuality Studies at Widener University to fortify her toolkit for the pursuit of reproductive justice and holistic sexual health for all. Slagus specializes in art/science collaborations\, public programming\, and community engagement\, and has designed and produced residencies and program series with/for Eyebeam\, the State Library of Queensland\, EMPAC\, the New York Hall of Science\, and currently\, FEED Media Art Center. In 2009\, Slagus co-founded SexEd to produce a social practice-based body of art and curatorial projects that took the shape of sexual health campaigns\, exhibitions\, a sex ed salon with over 1\,000 teenagers\, after-school programs\, and a course at Parsons – The New School; all documented as the sex ed that doesn’t exist in the US. Motivated by the overturning of Roe v. Wade\, and lack of research\, information\, and public knowledge about topics such as menopause and pleasure\, Slagus has created the Sex Ed Bakeshop\, a new platform for fun\, safe\, and inclusive sexuality education. She holds a BA in Art History and Anthropology from Bucknell University and a MA in Visual Arts Administration from NYU. \nRegister
URL:https://techunlimited.org/event/parent-talk-whats-sex-ed-got-to-do-with-it/
CATEGORIES:Parent Talks,Tech Knowledge Workshops
ATTACH;FMTTYPE=image/png:https://techunlimited.org/wp-content/uploads/2025/08/parentTalk.png
LOCATION:https://techunlimited.org/event/parent-talk-whats-sex-ed-got-to-do-with-it/
END:VEVENT
BEGIN:VEVENT
DTSTART;TZID=America/New_York:20250212T170000
DTEND;TZID=America/New_York:20250212T180000
DTSTAMP:20260421T065454
CREATED:20250108T192654Z
LAST-MODIFIED:20250820T164531Z
UID:10000114-1739379600-1739383200@techunlimited.org
SUMMARY:Digital Empowerment: February
DESCRIPTION:Free workshop discussing topics related to the impact technology has on our lives. Topics are decided by TKU students. Past discussions covered topics such as avoiding hackers\, online safety\, the benefits of video games\, and making friends online. \nFor ages 14-24.  \nEnroll Now
URL:https://techunlimited.org/event/digital-empowerment-february/
LOCATION:370 Jay St\, Brooklyn\, 11201\, United States
CATEGORIES:Digital Empowerment
ATTACH;FMTTYPE=image/png:https://techunlimited.org/wp-content/uploads/2025/08/afterSchoolWorkshop.png
END:VEVENT
BEGIN:VEVENT
DTSTART;TZID=America/New_York:20250214T160000
DTEND;TZID=America/New_York:20250214T183000
DTSTAMP:20260421T065454
CREATED:20250108T195017Z
LAST-MODIFIED:20250820T164533Z
UID:10000117-1739548800-1739557800@techunlimited.org
SUMMARY:Tech Social: Hearts & Crafts
DESCRIPTION:Join us for the Hearts and Crafts Tech Social! Play games\, make new friends\, get creative with crafts\, and sing your heart out at karaoke. It’s the perfect way to celebrate Valentine’s Day with fun\, laughter\, and good vibes! \nFor ages 14-24. \nEnroll Now
URL:https://techunlimited.org/event/tech-social-hearts-crafts/
LOCATION:370 Jay St\, Brooklyn\, 11201\, United States
CATEGORIES:Tech Knowledge Workshops,Tech Parties,Tech Socials
ATTACH;FMTTYPE=image/png:https://techunlimited.org/wp-content/uploads/2025/08/techSocial.png
END:VEVENT
END:VCALENDAR