BEGIN:VCALENDAR
VERSION:2.0
PRODID:-//Tech Unlimited - ECPv6.15.17.1//NONSGML v1.0//EN
CALSCALE:GREGORIAN
METHOD:PUBLISH
X-ORIGINAL-URL:https://techunlimited.org
X-WR-CALDESC:Events for Tech Unlimited
REFRESH-INTERVAL;VALUE=DURATION:PT1H
X-Robots-Tag:noindex
X-PUBLISHED-TTL:PT1H
BEGIN:VTIMEZONE
TZID:America/New_York
BEGIN:DAYLIGHT
TZOFFSETFROM:-0500
TZOFFSETTO:-0400
TZNAME:EDT
DTSTART:20240310T070000
END:DAYLIGHT
BEGIN:STANDARD
TZOFFSETFROM:-0400
TZOFFSETTO:-0500
TZNAME:EST
DTSTART:20241103T060000
END:STANDARD
BEGIN:DAYLIGHT
TZOFFSETFROM:-0500
TZOFFSETTO:-0400
TZNAME:EDT
DTSTART:20250309T070000
END:DAYLIGHT
BEGIN:STANDARD
TZOFFSETFROM:-0400
TZOFFSETTO:-0500
TZNAME:EST
DTSTART:20251102T060000
END:STANDARD
BEGIN:DAYLIGHT
TZOFFSETFROM:-0500
TZOFFSETTO:-0400
TZNAME:EDT
DTSTART:20260308T070000
END:DAYLIGHT
BEGIN:STANDARD
TZOFFSETFROM:-0400
TZOFFSETTO:-0500
TZNAME:EST
DTSTART:20261101T060000
END:STANDARD
END:VTIMEZONE
BEGIN:VEVENT
DTSTART;TZID=America/New_York:20250504T153000
DTEND;TZID=America/New_York:20250504T173000
DTSTAMP:20260419T170940
CREATED:20250228T095342Z
LAST-MODIFIED:20250820T164547Z
UID:10000133-1746372600-1746379800@techunlimited.org
SUMMARY:Digital Empowerment: May
DESCRIPTION:The Digital Empowerment Workshop is a free monthly program where students discuss topics related to the digital world and work on their communication skills in a supportive environment. Different viewpoints are encouraged during discussions. Students also play games and do activities to reinforce their knowledge. Topics are decided by TKU students. For ages 14-24. \nTopics in 2024 included Critical Thinking in the Digital Age\, The Benefits of Video Games\, Chat & Protect Yourself Online\, AI Usage in Videos\, Internet Drama\, Plagiarism & Copyright\, The History of the Internet\, and Search Engine Techniques. \n  \nEnroll Now
URL:https://techunlimited.org/event/digital-empowerment-may/
LOCATION:370 Jay St\, Brooklyn\, 11201\, United States
CATEGORIES:Digital Empowerment,Tech Knowledge Workshops
ATTACH;FMTTYPE=image/png:https://techunlimited.org/wp-content/uploads/2025/08/virtualSunday.png
END:VEVENT
BEGIN:VEVENT
DTSTART;TZID=America/New_York:20250518T153000
DTEND;TZID=America/New_York:20250518T173000
DTSTAMP:20260419T170940
CREATED:20250228T095343Z
LAST-MODIFIED:20250820T164547Z
UID:10000134-1747582200-1747589400@techunlimited.org
SUMMARY:In-Person Sunday Workshop: Movie Magic
DESCRIPTION:In this drop-in workshop\, discover the magic of movie-making using special effects\, green screens\, and creative editing techniques. No experience needed—just bring your imagination and bring movie scenes to life! For ages 10-24. \nEnroll Now
URL:https://techunlimited.org/event/movie-magic/
LOCATION:370 Jay St\, Brooklyn\, 11201\, United States
CATEGORIES:Sunday Workshops,Tech Knowledge Workshops
ATTACH;FMTTYPE=image/png:https://techunlimited.org/wp-content/uploads/2025/08/inPersonSunday.png
END:VEVENT
BEGIN:VEVENT
DTSTART;TZID=America/New_York:20250530T160000
DTEND;TZID=America/New_York:20250530T183000
DTSTAMP:20260419T170940
CREATED:20250228T095337Z
LAST-MODIFIED:20250820T164539Z
UID:10000124-1748620800-1748629800@techunlimited.org
SUMMARY:Tech Social: May the Fun Be With You
DESCRIPTION:Join us for our May the Fun Be With You Tech Social\, a space-themed party that’s out of this world! Explore the galaxy with games\, creative activities\, and a special sci-fi movie screening. Connect with friends\, enjoy cosmic treats\, and celebrate your love for all things space in an evening filled with adventure and fun! \nEnroll Now
URL:https://techunlimited.org/event/tech-social-may-the-fun-be-with-you/
LOCATION:370 Jay St\, Brooklyn\, 11201\, United States
CATEGORIES:Tech Socials
ATTACH;FMTTYPE=image/png:https://techunlimited.org/wp-content/uploads/2025/08/techSocial.png
END:VEVENT
BEGIN:VEVENT
DTSTART;TZID=America/New_York:20250530T160000
DTEND;TZID=America/New_York:20250530T183000
DTSTAMP:20260419T170940
CREATED:20250228T095339Z
LAST-MODIFIED:20250820T164543Z
UID:10000129-1748620800-1748629800@techunlimited.org
SUMMARY:Tech Social: May the Fun Be With You
DESCRIPTION:Join us for our May the Fun Be With You Tech Social\, a space-themed party that’s out of this world! Explore the galaxy with games\, creative activities\, and a special sci-fi movie screening. Connect with friends\, enjoy cosmic treats\, and celebrate your love for all things space in an evening filled with adventure and fun! For ages 14-24. \nEnroll Now
URL:https://techunlimited.org/event/tech-social-may-the-fun-be-with-you-2-2/
LOCATION:370 Jay St\, Brooklyn\, 11201\, United States
ATTACH;FMTTYPE=image/png:https://techunlimited.org/wp-content/uploads/2025/08/techSocial.png
END:VEVENT
END:VCALENDAR