BEGIN:VCALENDAR
VERSION:2.0
PRODID:-//Tech Unlimited - ECPv6.15.17.1//NONSGML v1.0//EN
CALSCALE:GREGORIAN
METHOD:PUBLISH
X-ORIGINAL-URL:https://techunlimited.org
X-WR-CALDESC:Events for Tech Unlimited
REFRESH-INTERVAL;VALUE=DURATION:PT1H
X-Robots-Tag:noindex
X-PUBLISHED-TTL:PT1H
BEGIN:VTIMEZONE
TZID:America/New_York
BEGIN:DAYLIGHT
TZOFFSETFROM:-0500
TZOFFSETTO:-0400
TZNAME:EDT
DTSTART:20250309T070000
END:DAYLIGHT
BEGIN:STANDARD
TZOFFSETFROM:-0400
TZOFFSETTO:-0500
TZNAME:EST
DTSTART:20251102T060000
END:STANDARD
BEGIN:DAYLIGHT
TZOFFSETFROM:-0500
TZOFFSETTO:-0400
TZNAME:EDT
DTSTART:20260308T070000
END:DAYLIGHT
BEGIN:STANDARD
TZOFFSETFROM:-0400
TZOFFSETTO:-0500
TZNAME:EST
DTSTART:20261101T060000
END:STANDARD
BEGIN:DAYLIGHT
TZOFFSETFROM:-0500
TZOFFSETTO:-0400
TZNAME:EDT
DTSTART:20270314T070000
END:DAYLIGHT
BEGIN:STANDARD
TZOFFSETFROM:-0400
TZOFFSETTO:-0500
TZNAME:EST
DTSTART:20271107T060000
END:STANDARD
END:VTIMEZONE
BEGIN:VEVENT
DTSTART;TZID=America/New_York:20260427T170000
DTEND;TZID=America/New_York:20260527T183000
DTSTAMP:20260421T170445
CREATED:20251219T180512Z
LAST-MODIFIED:20260415T202653Z
UID:10000215-1777309200-1779906600@techunlimited.org
SUMMARY:Level Up Tech: AI & Digital Tools for the Office
DESCRIPTION:Level Up Tech: AI & Digital Tools for Office Spring 2026 helps neurodivergent teens and young adults feel confident using AI and digital tools they’ll actually need at work. Students learn through collaborative projects while building skills with tools like Google Workspace (Gmail\, Sheets\, Slides\, Drive\, Calendar\, Forms\, Google Meet)\, Zoom\, ChatGPT (prompting)\, Slack\, Notion\, and Asana. By the end of the program\, participants are better prepared to step into internships or entry-level roles feeling capable\, organized\, and ready to work.\n \nFor ages 16-24. \nWorkshop Schedule: \n\n10 Sessions\n4/27\, 4/29\, 5/4\, 5/6\, 5/11\, 5/13\, 5/18\, 5/20\, 5/25\, 5/27\n5:00-6:30 PM ET\nVirtual\n\nApply Now
URL:https://techunlimited.org/event/level-up-tech-digital-tools/
CATEGORIES:Career Ladder Programs,ONLINE
ATTACH;FMTTYPE=image/png:https://techunlimited.org/wp-content/uploads/2025/08/LUT.png
END:VEVENT
BEGIN:VEVENT
DTSTART;TZID=America/New_York:20260506T170000
DTEND;TZID=America/New_York:20260506T180000
DTSTAMP:20260421T170445
CREATED:20251219T152229Z
LAST-MODIFIED:20260205T205340Z
UID:10000206-1778086800-1778090400@techunlimited.org
SUMMARY:Digital Empowerment: Combatting Cyberbullying
DESCRIPTION:Discuss strategies for combatting cyberbullying\, including recognizing harmful behavior\, responding safely\, and seeking support when needed. \nThe Digital Empowerment Workshop is a free drop-in program where students discuss topics related to the digital world and work on their communication skills in a supportive environment. Different viewpoints are encouraged during discussions. Students also play games and do activities to reinforce their knowledge. Topics are decided by students. Topics in 2024 included Critical Thinking in the Digital Age\, The Benefits of Video Games\, Chat & Protect Yourself Online\, AI Usage in Videos\, Internet Drama\, Plagiarism & Copyright\, The History of the Internet\, and Search Engine Techniques. For ages 14-24. \nEnroll Now
URL:https://techunlimited.org/event/digital-empowerment-combatting-cyberbullying/
LOCATION:370 Jay St\, Brooklyn\, 11201\, United States
CATEGORIES:After School Workshops,Digital Empowerment,ONLINE,Tech Knowledge Workshops
ATTACH;FMTTYPE=image/png:https://techunlimited.org/wp-content/uploads/2025/07/event-image_digital-empowerment.png
END:VEVENT
BEGIN:VEVENT
DTSTART;TZID=America/New_York:20260511T181500
DTEND;TZID=America/New_York:20260511T203000
DTSTAMP:20260421T170445
CREATED:20260401T171923Z
LAST-MODIFIED:20260410T150526Z
UID:10000232-1778523300-1778531400@techunlimited.org
SUMMARY:Tech Unlimited Fundraiser
DESCRIPTION:Celebrate and support Tech Unlimited at our annual fundraiser. ✨ \nEnjoy drinks and light bites\, enter exciting raffles\, bid on unique auction experiences\, and hear directly from neurodiverse students whose lives are being shaped through our programs. \nJoin us as we honor Lesley Palmer from Mizuho USA Foundation with Tech Unlimited’s Building Futures Award and recognize John Catuogno from Con Edison as the Workforce Inclusion Advocate for their outstanding support of neurodiverse talent. \nHosted on the 65th floor at Accenture’s One Manhattan West office\, the evening will feature stunning views of the Manhattan skyline. \nPlease note: This is a 21+ event. Students under 21 must be accompanied by a parent or guardian. \nBuy Tickets \n  \n  \n\nEvent Details \nSecurity: All guests must be registered in advance for building access. Please bring a valid photo ID for the security checkpoint. \nArrival: Doors open at 6:15 PM. \nAccessibility: If you need accommodations\, please notify us in advance at info@techunlimited.org. The venue is accessible via elevator. \n  \n 
URL:https://techunlimited.org/event/tech-unlimited-fundraiser/
ATTACH;FMTTYPE=image/png:https://techunlimited.org/wp-content/uploads/2026/04/Invite_v2.png
END:VEVENT
BEGIN:VEVENT
DTSTART;TZID=America/New_York:20260515T160000
DTEND;TZID=America/New_York:20260515T180000
DTSTAMP:20260421T170445
CREATED:20251219T190143Z
LAST-MODIFIED:20251219T190143Z
UID:10000218-1778860800-1778868000@techunlimited.org
SUMMARY:Tech Social: May the Fun Be With You
DESCRIPTION:Join us for the May the Fun Be With You Social with the Tech Unlimited community. Tech Socials are events for teens and young adults\, ages 14-24\, to connect with their peers and enjoy activities such as movies\, games\, and creative projects. \n  \nEnroll Now
URL:https://techunlimited.org/event/tech-social-may-the-fun-be-with-you-3/
LOCATION:370 Jay St\, Brooklyn\, 11201\, United States
CATEGORIES:Tech Socials
ATTACH;FMTTYPE=image/png:https://techunlimited.org/wp-content/uploads/2025/07/event-image_tech-socials.png
END:VEVENT
BEGIN:VEVENT
DTSTART;TZID=America/New_York:20260517T153000
DTEND;TZID=America/New_York:20260517T173000
DTSTAMP:20260421T170445
CREATED:20251219T161510Z
LAST-MODIFIED:20251219T161851Z
UID:10000212-1779031800-1779039000@techunlimited.org
SUMMARY:Sunday Tech Workshop - Character Animation
DESCRIPTION:Join us for an in-person Character Design Workshop where participants will create original characters through guided activities and creative exploration. Connect with others while developing characters using art and design techniques. \nSunday Tech workshops are for neurodiverse students who are interested in learning a new tech skill. Using digital tools\, students will work on a creative project they will complete by the end of the day. All technology will be provided for in-person programs. For ages 10-24. \nEnroll Now
URL:https://techunlimited.org/event/sunday-tech-workshop-animation-2026/
LOCATION:370 Jay St\, Brooklyn\, 11201\, United States
CATEGORIES:Sunday Workshops,Tech Knowledge Workshops
ATTACH;FMTTYPE=image/png:https://techunlimited.org/wp-content/uploads/2025/07/event-image_in-person-sundays.png
END:VEVENT
BEGIN:VEVENT
DTSTART;TZID=America/New_York:20260529T160000
DTEND;TZID=America/New_York:20260529T173000
DTSTAMP:20260421T170445
CREATED:20251219T160252Z
LAST-MODIFIED:20251219T160252Z
UID:10000210-1780070400-1780075800@techunlimited.org
SUMMARY:Creativity Club (May)
DESCRIPTION:Creativity Club is a monthly meetup to connect with other neurodiverse teens and young adults to explore creativity through tech projects\, games\, and conversations around animation\, game design\, film\, design\, and other creative interests. \nFor ages 10-24. \n  \nEnroll Now
URL:https://techunlimited.org/event/creativity-club-may/
LOCATION:In-Person
CATEGORIES:After School Clubs,After School Workshops,Tech Knowledge Workshops
ATTACH;FMTTYPE=image/jpeg:https://techunlimited.org/wp-content/uploads/2025/12/IMG_5488.jpg
END:VEVENT
END:VCALENDAR